BEGIN:VCALENDAR
VERSION:2.0
PRODID:-//Tuning In To Kids - ECPv4.9.8//NONSGML v1.0//EN
CALSCALE:GREGORIAN
METHOD:PUBLISH
X-WR-CALNAME:Tuning In To Kids
X-ORIGINAL-URL:https://tuningintokids.org.au
X-WR-CALDESC:Events for Tuning In To Kids
BEGIN:VTIMEZONE
TZID:Europe/Paris
BEGIN:DAYLIGHT
TZOFFSETFROM:+0100
TZOFFSETTO:+0200
TZNAME:CEST
DTSTART:20210328T010000
END:DAYLIGHT
BEGIN:STANDARD
TZOFFSETFROM:+0200
TZOFFSETTO:+0100
TZNAME:CET
DTSTART:20211031T010000
END:STANDARD
END:VTIMEZONE
BEGIN:VEVENT
DTSTART;TZID="Europe/Paris":20210304T100000
DTEND;TZID="Europe/Paris":20210304T110000
DTSTAMP:20210301T011345
CREATED:20200511T063436Z
LAST-MODIFIED:20210217T042537Z
UID:5123-1614852000-1614855600@tuningintokids.org.au
SUMMARY:Professional Supervision Tuning in to Kids – This session will take place via zoom only.
DESCRIPTION:This is a supervision session open to any trained facilitators who are certified in the Tuning in to Kids program. This session will be led by Dr Christiane Kehoe and Gabi MacDonald \nFor further details and bookings contact: Sally Keighery                    \nPh: +61 0402338935 \nEmail: sally.keighery@unimelb.edu.au \nOther supervision can also be organised (phone or SKYPE) and payment made through Mindful.  \n*Please note\, this session will take place via zoom only. You will receive a zoom link after registration.  \n
URL:https://tuningintokids.org.au/event/professional-supervision-melbourne-this-session-will-now-take-place-via-zoom-only/
LOCATION:ONLINE\, Australia
CATEGORIES:Professionals
ORGANIZER;CN="Tuning%20in%20to%20Kids":MAILTO:tik-info@unimelb.edu.au
GEO:-25.274398;133.775136
END:VEVENT
BEGIN:VEVENT
DTSTART;TZID="Europe/Paris":20210304T111500
DTEND;TZID="Europe/Paris":20210304T121500
DTSTAMP:20210301T011345
CREATED:20200511T051511Z
LAST-MODIFIED:20210217T042922Z
UID:5084-1614856500-1614860100@tuningintokids.org.au
SUMMARY:Professional Supervision Tuning in to Teens - This session will now take place via zoom only.
DESCRIPTION:This is a supervision session open to any trained facilitators who are certified in Tuning in to Teens. This session will be led by our research manager\, Dr Christiane Kehoe and our training manager Gabi MacDonald. \nThis session will take place via zoom only on Thursday March 4 from 11.15am – 12.15pm \nFor further details and bookings contact: Sally Keighery Ph: +61 0402338935 or email: sally.keighery@unimelb.edu.au \nOther supervision can also be organised (phone or SKYPE) and payment made through Mindful.  \n
URL:https://tuningintokids.org.au/event/professional-supervision-sydney-this-session-will-now-take-place-via-zoom-only/
LOCATION:ONLINE\, Australia
CATEGORIES:Professionals
ORGANIZER;CN="Tuning%20in%20to%20Kids":MAILTO:tik-info@unimelb.edu.au
GEO:-25.274398;133.775136
END:VEVENT
BEGIN:VEVENT
DTSTART;TZID="Europe/Paris":20210317T084500
DTEND;TZID="Europe/Paris":20210319T130000
DTSTAMP:20210301T011345
CREATED:20201119T034904Z
LAST-MODIFIED:20210228T200318Z
UID:5627-1615970700-1616158800@tuningintokids.org.au
SUMMARY:*TRAINING FULL*  Tuning in to Kids - Online via Zoom - March 17\,18\,19 - Facilitator training workshop for professionals
DESCRIPTION:Tuning in to Kids is an evidence-based parenting program developed by Dr. Sophie Havighurst and Ann Harley in Melbourne\, Australia with research trials conducted through The University of Melbourne.  \nTuning in to Kids ONLINE VIA ZOOM is a 3-half-day professional development workshop that gives trainees a grounding in the concepts of Emotional Intelligence and Emotion Coaching. The workshop blends lecture-style and experiential learning modules. Pre-reading and video material will be sent prior to the first session. This workshop is suitable for all experienced and qualified workers in the caring sector whose client base includes children (approximately 3 – 10 years) and their parents. Participants who complete the workshop receive a certificate that authorises them to deliver the Tuning in to Kids 6-week parenting program to parents and carers. \nTrainees are asked to login by 8.45am AEDT – work will finish at 1.00pm (AEDT Melbourne\, Australia) each day of the workshop – Wednesday March 17\, Thursday March 18 and Friday March 19.  Please also note\, you must attend all three zoom sessions in order to receive certification.  \nParticipants will receive a zoom link after enrolling. Digital and hardcopy workshop materials will be sent by email and post. Partipants must provide a secure postal address*  \n*Our program manuals are available in hardcopy only. Participants outside Australia will incur an additional postal fee for program materials. The following is a guide only: NZ $50AUD; USA $80AUD;UK $80AUD; HK $72AUD; SING $72AUD; EUR $80-100AUD. For postal payments email tik-info@unimelb.edu.au  \nWe look forward to seeing you in the Zoom training room soon! \n
URL:https://tuningintokids.org.au/event/tuning-in-to-kids-online-via-zoom-march-171819-facilitator-training-workshop-for-professionals/
LOCATION:Online via ZOOM AEST\, Australia
CATEGORIES:Professionals
ORGANIZER;CN="Tuning%20in%20to%20Kids":MAILTO:tik-info@unimelb.edu.au
END:VEVENT
BEGIN:VEVENT
DTSTART;TZID="Europe/Paris":20210325T084500
DTEND;TZID="Europe/Paris":20210329T133000
DTSTAMP:20210301T011345
CREATED:20201210T040556Z
LAST-MODIFIED:20201217T032615Z
UID:5634-1616661900-1617024600@tuningintokids.org.au
SUMMARY:Tuning in to Teens - Online via Zoom - March 25\, 26 & 29 - Facilitator training for professionals
DESCRIPTION:Tuning in to Teens ONLINE VIA ZOOM is a 3-half-day professional development workshop that gives trainees a grounding in the concepts of Emotional Intelligence and Emotion Coaching as well as useful information about teenage brain development. The online workshop blends lecture-style and experiential learning modules. Pre-reading and video material will be sent prior to the first session. This workshop is suitable for all experienced and qualified workers in the caring sector whose client base includes adolescents and pre-adolescents (approximately 11 years and up) and their parents. Participants must attend each day of the workshop March 25\, 26 & 29 to receive a certificate that authorises them to deliver the Tuning in to Teens 6-week parenting program to parents and carers. \nTrainees are asked to login before or by 8.45am start on Thursday March 25\, Friday March 26 and Monday March 29. IMPORTANT INFORMATION FOR PARTICIPANTS OUTSIDE AEST/AEDT (Australian Eastern Standard/Daylight Savings Time) Please check dates and times in your local and/or international time zone to ensure your are able to participate from day one and continue through each of the three sessions. \nParticipants will receive a zoom link after enrolling. Digital and hardcopy workshop materials will be sent by email and post. Please note\, program manuals are ONLY available via hardcopy. Participants MUST provide a mailing address upon registration. We strongly encourage participants to test their zoom link\, supporting software and hardware prior to the first session.  \nRESGISTRATIONS OPEN  \nWe look forward to seeing you in the Zoom training room soon! \nTo register using credit card CLICK HERE \nIMPORTANT INFORMATION FOR PARTICIPANTS OUTSIDE AUSTRALIA: Our program manuals are available in hardcopy only. Participants outside Australia will incur an additional postal fee for program materials. The following is a guide only: NZ $50AUD; USA $80AUD;UK $80AUD; HK $72AUD; SING $72AUD; EUR $80-100AUD. Please contact us on tik-info@unimelb.edu.au to organise payment prior to enrolment. Thank you.  \n
URL:https://tuningintokids.org.au/event/tuning-in-to-teens-online-via-zoom-march-25-26-29-facilitator-training-for-professionals/
CATEGORIES:Professionals
ORGANIZER;CN="Tuning%20in%20to%20Kids":MAILTO:tik-info@unimelb.edu.au
END:VEVENT
END:VCALENDAR