BEGIN:VCALENDAR
VERSION:2.0
PRODID:-//Tuning In To Kids - ECPv4.9.8//NONSGML v1.0//EN
CALSCALE:GREGORIAN
METHOD:PUBLISH
X-WR-CALNAME:Tuning In To Kids
X-ORIGINAL-URL:https://tuningintokids.org.au
X-WR-CALDESC:Events for Tuning In To Kids
BEGIN:VTIMEZONE
TZID:Australia/Melbourne
BEGIN:STANDARD
TZOFFSETFROM:+1100
TZOFFSETTO:+1000
TZNAME:AEST
DTSTART:20210403T160000
END:STANDARD
BEGIN:DAYLIGHT
TZOFFSETFROM:+1000
TZOFFSETTO:+1100
TZNAME:AEDT
DTSTART:20211002T160000
END:DAYLIGHT
END:VTIMEZONE
BEGIN:VEVENT
DTSTART;TZID="Australia/Melbourne":20210309T160000
DTEND;TZID="Australia/Melbourne":20210309T180000
DTSTAMP:20210301T010644
CREATED:20210107T000322Z
LAST-MODIFIED:20210219T043314Z
UID:5681-1615305600-1615312800@tuningintokids.org.au
SUMMARY:Tuning Into Kids ONLINE via ZOOM
DESCRIPTION:Emotionally Intelligent Parenting\nA six session parenting program for parents of children from birth-12yrs old. \nWould you like to learn how to: \n·be better at talking with your child? \n·be better at understanding your child? \n· help your child learn to manage their emotions? \n· help to prevent behaviour problems in your child? \n· teach your child to deal with conflict? \nTuning in to Kids shows you how to help your child develop emotional intelligence. Children with higher emotional intelligence: \n· have greater success with making and keeping friends \n· have better concentration at school \n· are more able to calm down when upset or angry \n· tend to have fewer childhood illnesses \nEmotional intelligence may be a better predictor of academic and career success than IQ! \nTime is dependant on location: \n3pm -5pm AEDT\, 12pm-2pm AWST\, 2pm-4pm AEST\, 2.30pm-4.30pm ACDT \nNo session on Easter Saturday i.e. 3.04.2021 \nThe last session on 10 .04.2021 will be at 2pm -4pm AEST for Vic\, NSW and ACT \n
URL:https://tuningintokids.org.au/event/tuning-into-kids-course-online-via-zoom-2/2021-03-09/
LOCATION:Online via ZOOM AEST\, Australia
CATEGORIES:Parents
ATTACH;FMTTYPE=image/jpeg:https://tuningintokids.org.au/app/uploads/2021/01/Photo-by-Robert-Collins-on-Unsplash-scaled.jpg
ORGANIZER;CN="Family%20Intermediary":MAILTO:support@yourmediator.org
END:VEVENT
END:VCALENDAR