BEGIN:VCALENDAR
VERSION:2.0
PRODID:-//Tuning In To Kids - ECPv4.9.8//NONSGML v1.0//EN
CALSCALE:GREGORIAN
METHOD:PUBLISH
X-WR-CALNAME:Tuning In To Kids
X-ORIGINAL-URL:https://tuningintokids.org.au
X-WR-CALDESC:Events for Tuning In To Kids
BEGIN:VTIMEZONE
TZID:Australia/Perth
BEGIN:STANDARD
TZOFFSETFROM:+0800
TZOFFSETTO:+0800
TZNAME:AWST
DTSTART:20210101T000000
END:STANDARD
END:VTIMEZONE
BEGIN:VEVENT
DTSTART;TZID="Australia/Perth":20210303T093000
DTEND;TZID="Australia/Perth":20210303T120000
DTSTAMP:20210301T010220
CREATED:20210222T033901Z
LAST-MODIFIED:20210222T033901Z
UID:5810-1614763800-1614772800@tuningintokids.org.au
SUMMARY:Tuning in to Teens
DESCRIPTION:Taren from Headspace and Deb from Investing In Our Youth are coming together to deliver Tuning in to Teens at Dalyellup Community Centre. Would you like to: \n\nCommunicate with your teen more effectively?\nHelp your teen develop coping skills and resilience?\nLearn how to emotion coach your teen through those difficult emotions?\nUnderstand why your teen behaves as they do?\nHelp your teen develop emotional intelligence?\n\nIf you answered ‘yes’ to any of the above\, Tuning in to Teens might be just what you’ve been searching for!!  This program is being offered for FREE due to financial sponsorship. \n
URL:https://tuningintokids.org.au/event/tuning-in-to-teens/2021-03-03/
CATEGORIES:Parents
ATTACH;FMTTYPE=image/jpeg:https://tuningintokids.org.au/app/uploads/2021/02/TINT-Dalyellup-2021.jpg
ORGANIZER;CN="Headspace%20Bunbury":MAILTO:info@headspacebunbury.org.au
END:VEVENT
END:VCALENDAR