BEGIN:VCALENDAR
VERSION:2.0
PRODID:-//Tuning In To Kids - ECPv4.9.8//NONSGML v1.0//EN
CALSCALE:GREGORIAN
METHOD:PUBLISH
X-WR-CALNAME:Tuning In To Kids
X-ORIGINAL-URL:https://tuningintokids.org.au
X-WR-CALDESC:Events for Tuning In To Kids
BEGIN:VTIMEZONE
TZID:Europe/Paris
BEGIN:DAYLIGHT
TZOFFSETFROM:+0100
TZOFFSETTO:+0200
TZNAME:CEST
DTSTART:20210328T010000
END:DAYLIGHT
BEGIN:STANDARD
TZOFFSETFROM:+0200
TZOFFSETTO:+0100
TZNAME:CET
DTSTART:20211031T010000
END:STANDARD
END:VTIMEZONE
BEGIN:VEVENT
DTSTART;TZID="Europe/Paris":20210210T160000
DTEND;TZID="Europe/Paris":20210210T203000
DTSTAMP:20210301T012514
CREATED:20201210T040641Z
LAST-MODIFIED:20210121T001508Z
UID:5653-1612972800-1612989000@tuningintokids.org.au
SUMMARY:*WORKSHOP FULL* Tuning in to Teens - Online via Zoom - February 10\, 15 & 17 - Facilitator training for professionals
DESCRIPTION:Tuning in to Teens ONLINE VIA ZOOM is a 3-half-day professional development workshop that gives trainees a grounding in the concepts of Emotional Intelligence and Emotion Coaching as well as useful information about teenage brain development. The online workshop blends lecture-style and experiential learning modules. Pre-reading and video material will be sent prior to the first session. This workshop is suitable for all experienced and qualified workers in the caring sector whose client base includes adolescents and pre-adolescents (approximately 11 years and up) and their parents. Participants must attend each day of the workshop February 10\, 15 & 17 to receive a certificate that authorises them to deliver the Tuning in to Teens 6-week parenting program to parents and carers. \nTrainees are asked to login before or by 4.00pm start on Wednesday February 10\, Monday February 15 and WednesdayFebruary 17. IMPORTANT INFORMATION FOR PARTICIPANTS OUTSIDE AEST/AEDT (Australian Eastern Standard/Daylight Savings Time) Please check dates and times in your local and/or international time zone to ensure your are able to participate from day one and continue through each of the three sessions. \nParticipants will receive a zoom link after enrolling. Digital and hardcopy workshop materials will be sent by email and post. Please note\, program manuals are ONLY available via hardcopy. Participants MUST provide a mailing address upon registration. We strongly encourage participants to test their zoom link\, supporting software and hardware prior to the first session.  \nWe look forward to seeing you in the Zoom training room soon! \nIMPORTANT INFORMATION FOR PARTICIPANTS OUTSIDE AUSTRALIA: Our program manuals are available in hardcopy only. Participants outside Australia will incur an additional postal fee for program materials. The following is a guide only: NZ $50AUD; USA $80AUD;UK $80AUD; HK $72AUD; SING $72AUD; EUR $80-100AUD. Please contact us on tik-info@unimelb.edu.au to organise payment prior to enrolment. Thank you.  \n
URL:https://tuningintokids.org.au/event/tuning-in-to-teens-online-via-zoom-february-10-15-17-facilitator-training-for-professionals/
CATEGORIES:Professionals
ORGANIZER;CN="Tuning%20in%20to%20Kids":MAILTO:tik-info@unimelb.edu.au
END:VEVENT
END:VCALENDAR