BEGIN:VCALENDAR
VERSION:2.0
PRODID:-//Tuning In To Kids - ECPv4.9.8//NONSGML v1.0//EN
CALSCALE:GREGORIAN
METHOD:PUBLISH
X-WR-CALNAME:Tuning In To Kids
X-ORIGINAL-URL:https://tuningintokids.org.au
X-WR-CALDESC:Events for Tuning In To Kids
BEGIN:VTIMEZONE
TZID:Europe/Paris
BEGIN:DAYLIGHT
TZOFFSETFROM:+0100
TZOFFSETTO:+0200
TZNAME:CEST
DTSTART:20210328T010000
END:DAYLIGHT
BEGIN:STANDARD
TZOFFSETFROM:+0200
TZOFFSETTO:+0100
TZNAME:CET
DTSTART:20211031T010000
END:STANDARD
END:VTIMEZONE
BEGIN:VEVENT
DTSTART;TZID="Europe/Paris":20210224T193000
DTEND;TZID="Europe/Paris":20210331T210000
DTSTAMP:20210301T005640
CREATED:20210121T001341Z
LAST-MODIFIED:20210121T001341Z
UID:5711-1614195000-1617224400@tuningintokids.org.au
SUMMARY:Tuning in to Teens online program
DESCRIPTION:\n\n\nTuning in to Teens live online \nEmotionally Intelligent Parenting \nA supportive parenting program for parents of adolescents aged approximately 10 – 16 years in small group setting. \nKate Culy and Jodie Harris have been running the Tuning in to Kids and Tuning in to Teens programs since 2010. Kate’s background is in speech therapy\, coaching and counselling. She is particularly passionate about supporting parents and helping families to communicate effectively. Jodie Harris is trained in Gestalt therapy and brings her background in counselling and her love for working with parents to the groups.  Kate and Jodie are parents of adolescents themselves and are also both Program Counsellors with Raise Youth Mentoring Foundation. \n‘With my changes (controlling my anger\, sharing his feelings\, listening with empathy)\, my son has changed a lot. He’s very calm\, very understanding\, and very helpful. I feel the relationship with my son has become stronger and he trusts me more.’  \n‘It was also good to hear that the types of emotional reactions of my child are being experienced by the children of all the parents attending — that was a comfort — it’s not just us/me!’  \n ‘It has given me strategies to deal with major meltdowns to minor incidences. \n “I am in awe at how much this program has helped me as an adult\, a mother and us as a family’ \n‘I would really like to thank you for your warmth\, support\, consideration and empathy for our journey” \nWould you like to learn how to:  \n· be better at talking with your teen? \n· be better at understanding your teen? \n· help your teen learn to manage their emotions? \n· help to prevent behaviour problems in your teen? \n· teach your teen to deal with conflict? \nAdolescents with higher Emotional Intelligence:  \n· are more aware\, assertive and strong in situations of peer pressure \n· have greater success with making friends and are more able to manage conflict with peers \n· are more able to cope when upset or angry \n· have fewer mental health and substance abuse difficulties \n· have more stable and satisfying relationships as adults \n· have greater career success – \n· Emotional intelligence may be a better predictor of academic and career success than IQ! \nWhere: live online via Zoom \nWhen: Wednesdays  February 24th to March 31st \n7.30 – 9.00pm AEST \nCost: $190 / $270 couples for 6  sessions \nFor all enquiries or to make a booking please email kateculy@gmail.com or call: 0404 042 789 \n\n\n\n  \n  \n
URL:https://tuningintokids.org.au/event/tuning-in-to-teens-online-program-5/
CATEGORIES:Parents
ATTACH;FMTTYPE=image/jpeg:https://tuningintokids.org.au/app/uploads/2021/01/Picture1.jpg
ORGANIZER;CN="Jodie%20Harris%20%2F%20Kate%20Culy":MAILTO:jodie_harris @ymail.com
END:VEVENT
END:VCALENDAR