BEGIN:VCALENDAR
VERSION:2.0
PRODID:-//Tuning In To Kids - ECPv4.9.8//NONSGML v1.0//EN
CALSCALE:GREGORIAN
METHOD:PUBLISH
X-WR-CALNAME:Tuning In To Kids
X-ORIGINAL-URL:https://tuningintokids.org.au
X-WR-CALDESC:Events for Tuning In To Kids
BEGIN:VTIMEZONE
TZID:Europe/Paris
BEGIN:DAYLIGHT
TZOFFSETFROM:+0100
TZOFFSETTO:+0200
TZNAME:CEST
DTSTART:20200329T010000
END:DAYLIGHT
BEGIN:STANDARD
TZOFFSETFROM:+0200
TZOFFSETTO:+0100
TZNAME:CET
DTSTART:20201025T010000
END:STANDARD
END:VTIMEZONE
BEGIN:VEVENT
DTSTART;TZID="Europe/Paris":20200312T090000
DTEND;TZID="Europe/Paris":20200313T170000
DTSTAMP:20210301T011351
CREATED:20200511T063617Z
LAST-MODIFIED:20200511T063617Z
UID:5128-1584003600-1584118800@tuningintokids.org.au
SUMMARY:Tuning in to Teens* – MELBOURNE – facilitator training for professionals *REGISTRATIONS CLOSED Please contact us for late availability.
DESCRIPTION:Tuning in to Teens is a 2-day professional development workshop that gives trainees a grounding in the concepts of Emotional Intelligence and Emotion Coaching as well as useful information about teenage brain development. The workshop blends lecture-style and experiential learning modules. This workshop is suitable for all experienced and qualified workers in the caring sector whose client base includes adolescents and pre-adolescents (approximately 11 years and up) and their parents. Participants who complete the workshop receive a certificate that authorises them to deliver the Tuning in to Teens 6-week parenting program to parents and carers. \nTrainees are asked to arrive by 9.00am for a 9.15am start – work will finish at 5.00pm in the afternoon on both days of the workshop. Catering is provided. \n
URL:https://tuningintokids.org.au/event/tuning-in-to-teens-melbourne-facilitator-training-for-professionals-registrations-closed-please-contact-us-for-late-availability/
LOCATION:Mindful Centre\, 50 Flemington Street\, Travancore\, VIC\, 3032\, Australia
CATEGORIES:Professionals
ORGANIZER;CN="Tuning%20in%20to%20Kids":MAILTO:tik-info@unimelb.edu.au
GEO:-37.7817892;144.9344292
X-APPLE-STRUCTURED-LOCATION;VALUE=URI;X-ADDRESS=Mindful Centre 50 Flemington Street Travancore VIC 3032 Australia;X-APPLE-RADIUS=500;X-TITLE=50 Flemington Street:geo:144.9344292,-37.7817892
END:VEVENT
END:VCALENDAR