BEGIN:VCALENDAR
VERSION:2.0
PRODID:-//Tuning In To Kids - ECPv4.9.8//NONSGML v1.0//EN
CALSCALE:GREGORIAN
METHOD:PUBLISH
X-WR-CALNAME:Tuning In To Kids
X-ORIGINAL-URL:https://tuningintokids.org.au
X-WR-CALDESC:Events for Tuning In To Kids
BEGIN:VTIMEZONE
TZID:Europe/Paris
BEGIN:DAYLIGHT
TZOFFSETFROM:+0100
TZOFFSETTO:+0200
TZNAME:CEST
DTSTART:20200329T010000
END:DAYLIGHT
BEGIN:STANDARD
TZOFFSETFROM:+0200
TZOFFSETTO:+0100
TZNAME:CET
DTSTART:20201025T010000
END:STANDARD
END:VTIMEZONE
BEGIN:VEVENT
DTSTART;TZID="Europe/Paris":20200401T090000
DTEND;TZID="Europe/Paris":20200402T163000
DTSTAMP:20210301T011504
CREATED:20200511T063342Z
LAST-MODIFIED:20200511T063342Z
UID:5121-1585731600-1585845000@tuningintokids.org.au
SUMMARY:Tuning in to Kids* – Perth – facilitator training for professionals *Registrations closed. Please contact us for further information.
DESCRIPTION:Tuning in to Kids is an evidence based parenting program developed by Dr. Sophie Havighurst and Ann Harley in Melbourne\, Australia with research trials conducted through The University of Melbourne. \nThe program provides a new way of working with families that focuses on the emotional connection between parents and children. The program teaches parents skills in emotion coaching\, which is to recognise\, understand and manage their own and their children’s emotions. \nTuning in to Kids teaches parents to use children’s emotional experiences as an opportunity for closeness and teaching\, as well as to understand and use emotions effectively to self soothe and to use these skills to assist in problem solving and limit setting. Multiple randomised controlled trials of the program have shown that Tuning in to Kids leads to very positive outcomes including improving parenting\, parent-child relationships and children’s emotional competence and behaviour. The program has been particularly effective with children with clinical level emotional and behavioural difficulties. \n*Registrations for this workshop have closed. Please contact us on tik-info@unimelb.edu.au for further information about upcoming Tuning in to Kids workshops in Perth. \n
URL:https://tuningintokids.org.au/event/tuning-in-to-kids-perth-facilitator-training-for-professionals-registrations-closed-please-contact-us-for-further-information/
LOCATION:The Boulevard\, 99 The Boulevard\, Floreat\, Western Australia\, 6014\, Australia
CATEGORIES:Professionals
ORGANIZER;CN="Tuning%20in%20to%20Kids":MAILTO:tik-info@unimelb.edu.au
END:VEVENT
END:VCALENDAR