BEGIN:VCALENDAR
VERSION:2.0
PRODID:-//Tuning In To Kids - ECPv4.9.8//NONSGML v1.0//EN
CALSCALE:GREGORIAN
METHOD:PUBLISH
X-WR-CALNAME:Tuning In To Kids
X-ORIGINAL-URL:https://tuningintokids.org.au
X-WR-CALDESC:Events for Tuning In To Kids
BEGIN:VTIMEZONE
TZID:Europe/Paris
BEGIN:DAYLIGHT
TZOFFSETFROM:+0100
TZOFFSETTO:+0200
TZNAME:CEST
DTSTART:20200329T010000
END:DAYLIGHT
BEGIN:STANDARD
TZOFFSETFROM:+0200
TZOFFSETTO:+0100
TZNAME:CET
DTSTART:20201025T010000
END:STANDARD
END:VTIMEZONE
BEGIN:VEVENT
DTSTART;TZID="Europe/Paris":20200729T090000
DTEND;TZID="Europe/Paris":20200729T130000
DTSTAMP:20210301T011812
CREATED:20200615T005121Z
LAST-MODIFIED:20200629T035303Z
UID:5488-1596013200-1596027600@tuningintokids.org.au
SUMMARY:*WORKSHOP FULL* Tuning in to Kids - Online Facilitator Training Workshop for professionals - July 29\, 30 & August 3
DESCRIPTION:Tuning in to Kids is an evidence based parenting program developed by Dr. Sophie Havighurst and Ann Harley in Melbourne\, Australia with research trials conducted through The University of Melbourne. The program provides a new way of working with families that focuses on the emotional connection between parents and children. The program teaches parents skills in emotion coaching\, which is to recognise\, understand and manage their own and their children’s emotions. \nTuning in to Kids ONLINE VIA ZOOM is a 3-half-day professional development workshop that gives trainees a grounding in the concepts of Emotional Intelligence and Emotion Coaching. The workshop blends lecture-style and experiential learning modules. Pre-reading and video material will be sent prior to the first session. This workshop is suitable for all experienced and qualified workers in the caring sector whose client base includes children (approximately 3 – 10 years) and their parents. Participants who complete the workshop receive a certificate that authorises them to deliver the Tuning in to Kids 6-week parenting program to parents and carers. \nTrainees are asked to login before or by 8.45am AEST for a 9.00am start – work will finish at 1.00pm each day of the workshop – Wednesday July 29\, Thursday July 30 and Monday August 3.  \nPlaces are limited. Participants will receive a zoom link after enrolling. Digital and hardcopy workshop materials will be sent by email and post. Participants outside Australia will be charged additional materials postage – payable after registration. Please contact us for rates on tik-info@unimelb.edu.au Please note\, program manuals are ONLY available via hardcopy. Participants must provide a mailing address. We strongly encourage participants to test their zoom link\, supporting software and hardware prior to the first session. Please also note\, you must attend all three zoom sessions – July 29\, 30 and August 3 in order to receive certification. We look forward to seeing you in the zoom training room! \nIMPORTANT INFORMATION FOR PARTICIPANTS OUTSIDE AUSTRALIA: Our program manuals are available in hardcopy only. Participants outside Australia will incur an additional postal fee for program materials. The following is a guide only: NZ $50AUD; USA $80AUD;UK $80AUD; HK $72AUD; SING $72AUD; EUR $80-100AUD. Please contact us to confirm overseas postal charges before enrolling. Upon enrolling you will receive a postage payment link. Thank you. \n
URL:https://tuningintokids.org.au/event/tuning-in-to-kids-online-facilitator-training-workshop-for-professionals-july-29-30-august-3/
CATEGORIES:Professionals
ORGANIZER;CN="Tuning%20in%20to%20Kids":MAILTO:tik-info@unimelb.edu.au
END:VEVENT
END:VCALENDAR