BEGIN:VCALENDAR
VERSION:2.0
PRODID:-//Tuning In To Kids - ECPv4.9.8//NONSGML v1.0//EN
CALSCALE:GREGORIAN
METHOD:PUBLISH
X-WR-CALNAME:Tuning In To Kids
X-ORIGINAL-URL:https://tuningintokids.org.au
X-WR-CALDESC:Events for Tuning In To Kids
BEGIN:VTIMEZONE
TZID:Europe/Paris
BEGIN:DAYLIGHT
TZOFFSETFROM:+0100
TZOFFSETTO:+0200
TZNAME:CEST
DTSTART:20200329T010000
END:DAYLIGHT
BEGIN:STANDARD
TZOFFSETFROM:+0200
TZOFFSETTO:+0100
TZNAME:CET
DTSTART:20201025T010000
END:STANDARD
END:VTIMEZONE
BEGIN:VEVENT
DTSTART;TZID="Europe/Paris":20200402T090000
DTEND;TZID="Europe/Paris":20200403T163000
DTSTAMP:20210301T011542
CREATED:20200511T063256Z
LAST-MODIFIED:20200511T063256Z
UID:5119-1585818000-1585931400@tuningintokids.org.au
SUMMARY:Tuning in to Kids – MELBOURNE* – facilitator training for professionals *Registrations now closed. Please contact us for more information.
DESCRIPTION:Tuning in to Kids is an evidence based parenting program developed by Dr. Sophie Havighurst and Ann Harley in Melbourne\, Australia with research trials conducted through The University of Melbourne. \nThe program provides a new way of working with families that focuses on the emotional connection between parents and children. The program teaches parents skills in emotion coaching\, which is to recognise\, understand and manage their own and their children’s emotions. \nTuning in to Kids teaches parents to use children’s emotional experiences as an opportunity for closeness and teaching\, as well as to understand and use emotions effectively to self soothe and to use these skills to assist in problem solving and limit setting. Multiple randomised controlled trials of the program have shown that Tuning in to Kids leads to very positive outcomes including improving parenting\, parent-child relationships and children’s emotional competence and behaviour. The program has been particularly effective with children with clinical level emotional and behavioural difficulties. \n*Registrations for this workshop have now closed. Please contact us for further information or refer you calendar for upcoming Tuning in to Kids workshops in Melbourne. \n
URL:https://tuningintokids.org.au/event/tuning-in-to-kids-melbourne-facilitator-training-for-professionals-registrations-now-closed-please-contact-us-for-more-information/
LOCATION:Mindful Centre\, 50 Flemington Street\, Travancore\, VIC\, 3032\, Australia
CATEGORIES:Professionals
ORGANIZER;CN="Tuning%20in%20to%20Kids":MAILTO:tik-info@unimelb.edu.au
GEO:-37.7817892;144.9344292
X-APPLE-STRUCTURED-LOCATION;VALUE=URI;X-ADDRESS=Mindful Centre 50 Flemington Street Travancore VIC 3032 Australia;X-APPLE-RADIUS=500;X-TITLE=50 Flemington Street:geo:144.9344292,-37.7817892
END:VEVENT
END:VCALENDAR