BEGIN:VCALENDAR
VERSION:2.0
PRODID:-//Tuning In To Kids - ECPv4.9.8//NONSGML v1.0//EN
CALSCALE:GREGORIAN
METHOD:PUBLISH
X-WR-CALNAME:Tuning In To Kids
X-ORIGINAL-URL:https://tuningintokids.org.au
X-WR-CALDESC:Events for Tuning In To Kids
BEGIN:VTIMEZONE
TZID:Europe/Paris
BEGIN:DAYLIGHT
TZOFFSETFROM:+0100
TZOFFSETTO:+0200
TZNAME:CEST
DTSTART:20200329T010000
END:DAYLIGHT
BEGIN:STANDARD
TZOFFSETFROM:+0200
TZOFFSETTO:+0100
TZNAME:CET
DTSTART:20201025T010000
END:STANDARD
END:VTIMEZONE
BEGIN:VEVENT
DTSTART;TZID="Europe/Paris":20200703T090000
DTEND;TZID="Europe/Paris":20200703T130000
DTSTAMP:20210301T011654
CREATED:20200512T051502Z
LAST-MODIFIED:20200629T044056Z
UID:5179-1593766800-1593781200@tuningintokids.org.au
SUMMARY:Dads Tuning in to Kids - Online via Zoom AEST - July 3 - facilitator training workshop for professionals
DESCRIPTION:PRE-REQUISITE: The Dads Tuning in to Kids workshop is open to certified Tuning in to Kids facilitators only. \nDads Tuning in to KidsTM is an evidence-based adaptation of the widely used Tuning in to Kids® parenting program. It has been developed by Dr. Katherine Wilson\, Dr. Sophie Havighurst and Ann Harley in Melbourne\, Australia\, to be suitable for use by Tuning in to Kids trained facilitators who would like to offer father-only parenting groups. The program focuses on the father-child emotional connection. It teaches fathers the skills in emotion coaching that are taught in Tuning in to Kids®\, provides additional content particularly relevant to fathers\, and suggests modifications to some program activities and processes. \nDads Tuning in to KidsTM  ONLINE VIA ZOOM is a half-day professional development workshop that gives trainees a grounding in the concepts of Emotional Intelligence and Emotion Coaching specifically tailored to dads and other male carers. The workshop blends lecture-style and experiential learning modules. This workshop is suitable for all experienced and qualified Tuning in to Kids facilitators in the caring sector whose client base includes children (approximately 3 – 10 years) and their parents. Participants who complete the workshop receive a certificate that authorises them to deliver the Dads Tuning in to Kids 6-week parenting program to parent and carers. \nTrainees are asked to login before or by 8.45am AEST for a 9.00am start – work will finish at 1.00pm on Friday July 3.  \nRegistrations closed. \nIMPORTANT: This workshop is  open to certified Tuning in to Kids facilitators ONLY. Please list your TIK completion date when registering. Participants outside Australia will incur an additional postal fee. The following is a guide only: NZ $50AUD; USA $80AUD;UK $80AUD; HK $72AUD; SING $72AUD; EUR $80-100AUD. Please contact us to confirm overseas postal charges before enrolling. Upon enrolling you will receive a postage payment link. Thank you. \nPlaces are limited. Participants will receive a zoom link after enrolling. Digital and hardcopy workshop materials will be sent by email and post. Please note\, program manuals are ONLY available via hardcopy. Participants must provide a mailing address. We strongly encourage participants to test their zoom link\, supporting software and hardware prior to the first session. Please also note\, you must attend the entire four hour zoom session on July 3 in order to receive certification. We look forward to seeing you in the zoom training room! \n
URL:https://tuningintokids.org.au/event/dads-tuning-in-to-kids-online-via-zoom-aest-july-3-facilitator-training-workshop-for-professionals-registrations-open-soon/
LOCATION:Online via ZOOM AEST\, Australia
CATEGORIES:Professionals
ORGANIZER;CN="Tuning%20in%20to%20Kids":MAILTO:tik-info@unimelb.edu.au
END:VEVENT
END:VCALENDAR